BEGIN:VCALENDAR
VERSION:2.0
X-WR-TIMEZONE:America/Guadeloupe
CALSCALE:GREGORIAN
PRODID:-//IPEOS/Calendar//NONSGML v1.0//FR
X-WR-CALNAME;VALUE=TEXT:Sainte-Anne - CDV - Avril 2019
X-WR-CALDESC: Découvrez le programme  culturel du mois d’avril à Sainte-Anne 
X-WR-RELCALID:vivre-a-sainte-anne/culture-dans-la-ville/programme-mensuel-des-animations-de-la-ville/article/cdv-avril-2019
BEGIN:VEVENT
SUMMARY:RENCONTRE D'AUTEUR
UID:evenement320 @ https://www.ville-sainteanne.fr
DTSTAMP:20190409T145546Z
DTSTART:20190410T220000Z
DTEND:20190411T000000Z
CREATED:20190409T145546Z
LAST-MODIFIED:20190409T185546Z
LOCATION:Bibliothèque multimédia Osange Talis-Gane
DESCRIPTION:Le maire Christian Baptiste et son conseil municipal ont le plaisir de vous inviter à la présentation de la trilogie de Charles-Henri MARICEL-BALTUS\, écrivain guadeloupéen. Venez échanger autour de ses ouvrages "La vie au fil des temps"\, "Face à la mort" et "D'une vie à l'autre" Entrée libre et gratuite Infoline : 0590 85 19 20
CATEGORIES:CDV - Avril 2019
URL:https://www.ville-sainteanne.fr/vivre-a-sainte-anne/culture-dans-la-ville/programme-mensuel-des-animations-de-la-ville/article/cdv-avril-2019?id_evenement=320

STATUS:CONFIRMED
END:VEVENT
END:VCALENDAR

