BEGIN:VCALENDAR
VERSION:2.0
X-WR-TIMEZONE:America/Guadeloupe
CALSCALE:GREGORIAN
PRODID:-//IPEOS/Calendar//NONSGML v1.0//FR
X-WR-CALNAME;VALUE=TEXT:Sainte-Anne - CDV - Avril 2019
X-WR-CALDESC: Découvrez le programme  culturel du mois d’avril à Sainte-Anne 
X-WR-RELCALID:vivre-a-sainte-anne/culture-dans-la-ville/programme-mensuel-des-animations-de-la-ville/article/cdv-avril-2019
BEGIN:VEVENT
SUMMARY:LES LUTINS DE PAQUES SONT DE RETOUR ! 
UID:evenement322 @ https://www.ville-sainteanne.fr
DTSTAMP:20190412T153107Z
DTSTART:20190412T152800Z
DTEND:20190412T162800Z
CREATED:20190412T153107Z
LAST-MODIFIED:20190412T193744Z
LOCATION:Bibliothèque multimédia Osange Talis-Gane
DESCRIPTION:La bibliothèque multimédia vous attend dès 18h pour l'animation familiale "Les Lutins de Pâques". Au programme : des jeux\, des contes\, une chasse aux œufs et au trésor et plein d'autres animations ! Public : enfants de 5 à 10 ans accompagnés de leurs parents Infoline : 0590 85 19 20 / 0590 68 63 80
CATEGORIES:CDV - Avril 2019
URL:https://www.ville-sainteanne.fr/vivre-a-sainte-anne/culture-dans-la-ville/programme-mensuel-des-animations-de-la-ville/article/cdv-avril-2019?id_evenement=322

STATUS:CONFIRMED
END:VEVENT
END:VCALENDAR

