BEGIN:VCALENDAR
VERSION:2.0
X-WR-TIMEZONE:America/Guadeloupe
CALSCALE:GREGORIAN
PRODID:-//IPEOS/Calendar//NONSGML v1.0//FR
X-WR-CALNAME;VALUE=TEXT:Sainte-Anne - CDV - Avril 2019
X-WR-CALDESC: Découvrez le programme  culturel du mois d’avril à Sainte-Anne 
X-WR-RELCALID:vivre-a-sainte-anne/culture-dans-la-ville/programme-mensuel-des-animations-de-la-ville/article/cdv-avril-2019
BEGIN:VEVENT
SUMMARY:DECRYPTAJ
UID:evenement324 @ https://www.ville-sainteanne.fr
DTSTAMP:20190424T134515Z
DTSTART:20190426T230000Z
DTEND:20190427T010000Z
CREATED:20190424T134515Z
LAST-MODIFIED:20190424T174515Z
LOCATION:Centre de ressource Wilfrid Hugues Ouanna
DESCRIPTION:Projection-débat en présence d'intervenants Film : L'addiction aux écrans "Héroïne numérique" réalisé par Paul Moreira et Adèle Flaux
CATEGORIES:CDV - Avril 2019
URL:https://www.ville-sainteanne.fr/vivre-a-sainte-anne/culture-dans-la-ville/programme-mensuel-des-animations-de-la-ville/article/cdv-avril-2019?id_evenement=324

STATUS:CONFIRMED
END:VEVENT
END:VCALENDAR

