BEGIN:VCALENDAR
VERSION:2.0
X-WR-TIMEZONE:America/Guadeloupe
CALSCALE:GREGORIAN
PRODID:-//IPEOS/Calendar//NONSGML v1.0//FR
X-WR-CALNAME;VALUE=TEXT:Sainte-Anne - CDV - Avril 2019
X-WR-CALDESC: Découvrez le programme  culturel du mois d’avril à Sainte-Anne 
X-WR-RELCALID:vivre-a-sainte-anne/culture-dans-la-ville/programme-mensuel-des-animations-de-la-ville/article/cdv-avril-2019
BEGIN:VEVENT
SUMMARY:Lire entre nous
UID:evenement325 @ https://www.ville-sainteanne.fr
DTSTAMP:20190424T154219Z
DTSTART:20190427T133000Z
DTEND:20190427T153000Z
CREATED:20190424T154219Z
LAST-MODIFIED:20190424T194219Z
LOCATION:Bibliothèque Osange Talis Gane
DESCRIPTION:Club de lecture
CATEGORIES:CDV - Avril 2019
URL:https://www.ville-sainteanne.fr/vivre-a-sainte-anne/culture-dans-la-ville/programme-mensuel-des-animations-de-la-ville/article/cdv-avril-2019?id_evenement=325

STATUS:CONFIRMED
END:VEVENT
END:VCALENDAR

