BEGIN:VCALENDAR
VERSION:2.0
X-WR-TIMEZONE:America/Guadeloupe
CALSCALE:GREGORIAN
PRODID:-//IPEOS/Calendar//NONSGML v1.0//FR
X-WR-CALNAME;VALUE=TEXT:Sainte-Anne - Sport Dans la Ville
X-WR-CALDESC: Découvrez le programme mensuel des animations sportives de la Ville de Sainte-Anne.    A l’instar du CDV (Culture Dans la Ville) au sein duquel nous regroupons les animations culturelles de la ville\, le SDV (Sport Dans la Ville ) est le programme d’animations (déployées sur le territoire) regroupant les activités sportives proposées par la Ville de Sainte-Anne\, les associations et les ligues sportives. 
X-WR-RELCALID:vivre-a-sainte-anne/sports-et-loisirs-dans-la-ville/animation-sportive/article/sport-dans-la-ville
BEGIN:VEVENT
SUMMARY:Journée Handi Voile Kayak
UID:evenement326 @ https://www.ville-sainteanne.fr
DTSTAMP:20190424T154605Z
DTSTART:20190426T130000Z
DTEND:20190426T170000Z
CREATED:20190424T154605Z
LAST-MODIFIED:20190424T194605Z
LOCATION:Base nautique
DESCRIPTION:organisée par l'ANASA\, principalement pour les personnes à mobilité réduite Infline 0590 88 12 32
CATEGORIES:Sport Dans la Ville
URL:https://www.ville-sainteanne.fr/vivre-a-sainte-anne/sports-et-loisirs-dans-la-ville/animation-sportive/article/sport-dans-la-ville?id_evenement=326

STATUS:CONFIRMED
END:VEVENT
END:VCALENDAR

