BEGIN:VCALENDAR
VERSION:2.0
X-WR-TIMEZONE:America/Guadeloupe
CALSCALE:GREGORIAN
PRODID:-//IPEOS/Calendar//NONSGML v1.0//FR
X-WR-CALNAME;VALUE=TEXT:Sainte-Anne - JEDI A BOKANTAJ POU ASOSYASION
X-WR-CALDESC: Le Jédi a Bokantaj pou asosyasyon est un rendez-vous régulier proposé par Ville de Sainte-Anne aux dirigeants associatifs. C’est un véritable moment d’échanges\, autour de sujets variés\, entre des bénévoles et des spécialistes ou professionnels.   L’objectif : accompagner les associations dans leur développement et leur structuration.   Informations complémentaires au 0590 21 49 29 
X-WR-RELCALID:citoyennete/associations-et-quartiers/vie-associative-117/article/jedi-a-bokantaj-pou-asosyasion
BEGIN:VEVENT
SUMMARY:JEDI A BOKANTAJ POU ASOSYASION
UID:evenement327 @ https://www.ville-sainteanne.fr
DTSTAMP:20190430T151122Z
DTSTART:20190502T223000Z
DTEND:20190503T003000Z
CREATED:20190430T151122Z
LAST-MODIFIED:20190430T191122Z
LOCATION:Centre de ressources Wilfrid Hugues Ouanna
DESCRIPTION:Thème : Organiser sa manifestation : règlementation et sécurité\, les clés pour bien faire Renseignements au 0590 21 49 29.
CATEGORIES:JEDI A BOKANTAJ POU ASOSYASION
URL:https://www.ville-sainteanne.fr/citoyennete/associations-et-quartiers/vie-associative-117/article/jedi-a-bokantaj-pou-asosyasion?id_evenement=327

STATUS:CONFIRMED
END:VEVENT
END:VCALENDAR

