BEGIN:VCALENDAR
VERSION:2.0
X-WR-TIMEZONE:America/Guadeloupe
CALSCALE:GREGORIAN
PRODID:-//IPEOS/Calendar//NONSGML v1.0//FR
X-WR-CALNAME;VALUE=TEXT:Sainte-Anne - Sport Dans la Ville
X-WR-CALDESC: Découvrez le programme mensuel des animations sportives de la Ville de Sainte-Anne.    A l’instar du CDV (Culture Dans la Ville) au sein duquel nous regroupons les animations culturelles de la ville\, le SDV (Sport Dans la Ville ) est le programme d’animations (déployées sur le territoire) regroupant les activités sportives proposées par la Ville de Sainte-Anne\, les associations et les ligues sportives. 
X-WR-RELCALID:vivre-a-sainte-anne/sports-et-loisirs-dans-la-ville/animation-sportive/article/sport-dans-la-ville
BEGIN:VEVENT
SUMMARY:Swé ba tout moun !
UID:evenement329 @ https://www.ville-sainteanne.fr
DTSTAMP:20190430T154140Z
DTSTART:20190510T223000Z
DTEND:20190510T233000Z
CREATED:20190430T154140Z
LAST-MODIFIED:20190430T194140Z
LOCATION:Plage du bourg
DESCRIPTION:A partir du vendredi 3 mai\, le "Swé ba tout moun" revient tous les vendredis de 18h30 à 19h30 sur la plage du bourg. Un rendez-vous sportif gratuit\, à vivre en solo\, en famille ou entre amis ! Informations et inscriptions à la Direction des Affaires Sportives : 0590 85 15 55 Pièces à fournir : 1 photo\, 1 attestation d'assurance en responsabilité civile\, 1 certificat médical et 1 autorisation parentale pour les mineurs
CATEGORIES:Sport Dans la Ville
URL:https://www.ville-sainteanne.fr/vivre-a-sainte-anne/sports-et-loisirs-dans-la-ville/animation-sportive/article/sport-dans-la-ville?id_evenement=329

STATUS:CONFIRMED
END:VEVENT
END:VCALENDAR

