BEGIN:VCALENDAR
VERSION:2.0
X-WR-TIMEZONE:America/Guadeloupe
CALSCALE:GREGORIAN
PRODID:-//IPEOS/Calendar//NONSGML v1.0//FR
X-WR-CALNAME;VALUE=TEXT:Sainte-Anne - Bois Jolan se met au vert
X-WR-CALDESC: La ville de Sainte-Anne organise la 2ème édition de l’opération « Plage propre à Bois-Jolan »\, du 21 mars au 03 avril 2016\, en collaboration avec la DEAL\, les sociétés GMA et CITEC ainsi que le SYVADE.    L’objectif est toujours le même : informer les usagers et les campeurs de passage pendant les fêtes pascales afin de prévenir et limiter les risques d’atteinte au site naturel de Bois-Jolan.   Cette plage est l’un des rares sites où le camping est encore autorisé en Guadeloupe ; et pour (…) 
X-WR-RELCALID:actualites/article/bois-jolan-se-met-au-vert
BEGIN:VEVENT
SUMMARY:Opération Plage propre à Bois Jolan
UID:evenement33 @ https://www.ville-sainteanne.fr
DTSTAMP:20160324T032848Z
DTSTART:20160321T113000Z
DTEND:20160403T200000Z
CREATED:20160324T032848Z
LAST-MODIFIED:20160324T073212Z
LOCATION:Plage de Bois Jolan
DESCRIPTION:Informer et sensibiliser les campeurs sur le tri et les gestes de prévention pour lutter contre le Zika. Distribution de sacs en papier pour y mettre les déchets ménagers.
CATEGORIES:Bois Jolan se met au vert
URL:https://www.ville-sainteanne.fr/actualites/article/bois-jolan-se-met-au-vert?id_evenement=33

STATUS:CONFIRMED
END:VEVENT
END:VCALENDAR

