BEGIN:VCALENDAR
VERSION:2.0
X-WR-TIMEZONE:America/Guadeloupe
CALSCALE:GREGORIAN
PRODID:-//IPEOS/Calendar//NONSGML v1.0//FR
X-WR-CALNAME;VALUE=TEXT:Sainte-Anne - Sainte-Anne Art Côté jardin
X-WR-CALDESC: La ville de Sainte-Anne organise la 7ème édition de l’exposition florale et artisanale Sainte-Anne’Art\, Côté jardin\, du 24 au 26 mai 2019.  Les artisans\, agro-transformateurs\, pépiniéristes\, horticulteurs et autres professionnels souhaitant bénéficier d’un stand sont priés de se rapprocher du Centre Culturel situé Boulevard Ibéné (Tél : 0590 85 19 20) avant le 14 mai 2019. 
X-WR-RELCALID:vivre-a-sainte-anne/culture-dans-la-ville/centre-culturel/article/sainte-anne-art-cote-jardin
BEGIN:VEVENT
SUMMARY:Inscriptions à Sainte-Anne Art Côté jardin
UID:evenement337 @ https://www.ville-sainteanne.fr
DTSTAMP:20190503T144316Z
DTSTART:20190503T113000Z
DTEND:20190514T210000Z
CREATED:20190503T144316Z
LAST-MODIFIED:20190503T184402Z
LOCATION:Centre Culturel
DESCRIPTION:Les artisans\, agro-transformateurs\, pépiniéristes\, horticulteurs et autres professionnels souhaitant bénéficier d'un stand sont priés de se rapprocher du Centre Culturel situé Boulevard Ibéné (Tél : 0590 85 19 20) avant le 14 mai 2019
CATEGORIES:Sainte-Anne Art Côté jardin
URL:https://www.ville-sainteanne.fr/vivre-a-sainte-anne/culture-dans-la-ville/centre-culturel/article/sainte-anne-art-cote-jardin?id_evenement=337

STATUS:CONFIRMED
END:VEVENT
END:VCALENDAR

