BEGIN:VCALENDAR
VERSION:2.0
X-WR-TIMEZONE:America/Guadeloupe
CALSCALE:GREGORIAN
PRODID:-//IPEOS/Calendar//NONSGML v1.0//FR
X-WR-CALNAME;VALUE=TEXT:Sainte-Anne - THEATRE DE DIPE
X-WR-CALDESC: Le Théâtre de Dipe et l’association En scène ! vous propose 2 belles soirées spectacles au théâtre de Dipe (Gissac 97180 Sainte-Anne) :  Le vendredi 7 juin 2019 à 20h : TOURMENTS D’AMOUR (Adultes) Le samedi 8 juin 2019 à 18h30 : LES ENFANTS FONT LEUR SHOW   Entrée 8€ pour 1 spectacle - Pass 12€ pour les 2 spectacles   Tél : 0690 233 662  Mail : dipe75 chez gmail.com  Site et plan : theatre-de-dipe.business.site  Page facebook : Le théâtre de Dipe 
X-WR-RELCALID:citoyennete/associations-et-quartiers/vie-associative-117/infos-d-assos/article/theatre-de-dipe
BEGIN:VEVENT
SUMMARY:THEATRE DE DIPE
UID:evenement339 @ https://www.ville-sainteanne.fr
DTSTAMP:20190514T193038Z
DTSTART:20190608T223000Z
DTEND:20190609T003000Z
CREATED:20190514T193038Z
LAST-MODIFIED:20190514T233248Z
LOCATION:Théâtre de Dipe
DESCRIPTION:Les enfants font leur show Entrée 8€ (12 € les 2 spectacles)
CATEGORIES:THEATRE DE DIPE
URL:https://www.ville-sainteanne.fr/citoyennete/associations-et-quartiers/vie-associative-117/infos-d-assos/article/theatre-de-dipe?id_evenement=339

STATUS:CONFIRMED
END:VEVENT
END:VCALENDAR

