BEGIN:VCALENDAR
VERSION:2.0
X-WR-TIMEZONE:America/Guadeloupe
CALSCALE:GREGORIAN
PRODID:-//IPEOS/Calendar//NONSGML v1.0//FR
X-WR-CALNAME;VALUE=TEXT:Sainte-Anne - Culture dans la ville - Mai 2019
X-WR-CALDESC: Découvrez le programme culturel du mois de mai à Sainte-Anne  Pour le consulter en ligne\, cliquer ici 
X-WR-RELCALID:vivre-a-sainte-anne/culture-dans-la-ville/programme-mensuel-des-animations-de-la-ville/article/culture-dans-la-ville-mai-2019
BEGIN:VEVENT
SUMMARY:Centenaire de Mme Osange Talis Gane
UID:evenement340 @ https://www.ville-sainteanne.fr
DTSTAMP:20190515T125009Z
DTSTART:20190516T230000Z
DTEND:20190517T010000Z
CREATED:20190515T125009Z
LAST-MODIFIED:20190515T165419Z
LOCATION:Bibliothèque multimédia Osange Talis-Gane Osange Talis-Gane
DESCRIPTION:Rencontre avec une nouvelle centenaire saintannaise\, Mme Osange Talis Gane
CATEGORIES:Culture dans la ville - Mai 2019
URL:https://www.ville-sainteanne.fr/vivre-a-sainte-anne/culture-dans-la-ville/programme-mensuel-des-animations-de-la-ville/article/culture-dans-la-ville-mai-2019?id_evenement=340

STATUS:CONFIRMED
END:VEVENT
END:VCALENDAR

