BEGIN:VCALENDAR
VERSION:2.0
X-WR-TIMEZONE:America/Guadeloupe
CALSCALE:GREGORIAN
PRODID:-//IPEOS/Calendar//NONSGML v1.0//FR
X-WR-CALNAME;VALUE=TEXT:Sainte-Anne - Sport Dans la Ville
X-WR-CALDESC: Découvrez le programme mensuel des animations sportives de la Ville de Sainte-Anne.    A l’instar du CDV (Culture Dans la Ville) au sein duquel nous regroupons les animations culturelles de la ville\, le SDV (Sport Dans la Ville ) est le programme d’animations (déployées sur le territoire) regroupant les activités sportives proposées par la Ville de Sainte-Anne\, les associations et les ligues sportives. 
X-WR-RELCALID:vivre-a-sainte-anne/sports-et-loisirs-dans-la-ville/animation-sportive/article/sport-dans-la-ville
BEGIN:VEVENT
SUMMARY:La Grande Rando nocturne
UID:evenement344 @ https://www.ville-sainteanne.fr
DTSTAMP:20190520T203428Z
DTSTART:20190524T223000Z
DTEND:20190525T013000Z
CREATED:20190520T203428Z
LAST-MODIFIED:20190521T003428Z
LOCATION:Place Marius Chipotel
DESCRIPTION:Ville de Sainte-Anne vous propose "La Grande Rando Nocturne" le vendredi 24 mai 2019 : Rendez-vous à 18h30 à la place Marius Chipotel de Douville\, pour un échauffement avec notre partenaire Body Training. Se munir d'une lampe frontale\, d'un chasuble fluorescent et d'une tenue adaptée à la randonnée Gratuit - Inscription conseillée à la Direction des Affaires sportives (0590 85 15 55) NOTEZ QU'A CET EFFET\, LE SWE BA TOUT MOUN DU 24 MAI EST ANNULE (le partenaire Body Training étant déjà sur "La Grande Rando Nocturne")
CATEGORIES:Sport Dans la Ville
URL:https://www.ville-sainteanne.fr/vivre-a-sainte-anne/sports-et-loisirs-dans-la-ville/animation-sportive/article/sport-dans-la-ville?id_evenement=344

STATUS:CONFIRMED
END:VEVENT
END:VCALENDAR

