BEGIN:VCALENDAR
VERSION:2.0
X-WR-TIMEZONE:America/Guadeloupe
CALSCALE:GREGORIAN
PRODID:-//IPEOS/Calendar//NONSGML v1.0//FR
X-WR-CALNAME;VALUE=TEXT:Sainte-Anne - MAI DES ANCETRES
X-WR-CALDESC: Dans le cadre de la commémoration de l’abolition de l’esclavage\, Christian Baptiste\, Maire de Sainte-Anne invite la population à la 3ème édition du  Mai des Ancêtres  qui se déroule du 10 au 27 mai 2019. Au programme : Vendredi 10 mai – 19h – Centre de ressources de Douville - Conférence « De l’esclave à l’ancêtre africain réduit en esclavage : le poids des mots dans notre histoire ». Avec Mme Hélène Migerel Docteur en sciences humaines et Psychanalyste et Mme Gladys Démocrite Avocate au (…) 
X-WR-RELCALID:vivre-a-sainte-anne/culture-dans-la-ville/programme-mensuel-des-animations-de-la-ville/article/mai-des-ancetres
BEGIN:VEVENT
SUMMARY:Exposition "1848\, Une Aube de liberté : l'abolition de l'esclavage en Guadeloupe"
UID:evenement345 @ https://www.ville-sainteanne.fr
DTSTAMP:20190521T143557Z
DTSTART:20190517T113000Z
DTEND:20190525T210000Z
CREATED:20190521T143557Z
LAST-MODIFIED:20190521T185016Z
LOCATION:Centre Culturel
DESCRIPTION:Exposition itinérante des Archives Départementales de la Guadeloupe. Renseignements au 0590 85 19 20
CATEGORIES:MAI DES ANCETRES
URL:https://www.ville-sainteanne.fr/vivre-a-sainte-anne/culture-dans-la-ville/programme-mensuel-des-animations-de-la-ville/article/mai-des-ancetres?id_evenement=345

STATUS:CONFIRMED
END:VEVENT
END:VCALENDAR

