BEGIN:VCALENDAR
VERSION:2.0
X-WR-TIMEZONE:America/Guadeloupe
CALSCALE:GREGORIAN
PRODID:-//IPEOS/Calendar//NONSGML v1.0//FR
X-WR-CALNAME;VALUE=TEXT:Sainte-Anne - MAI DES ANCETRES
X-WR-CALDESC: Dans le cadre de la commémoration de l’abolition de l’esclavage\, Christian Baptiste\, Maire de Sainte-Anne invite la population à la 3ème édition du  Mai des Ancêtres  qui se déroule du 10 au 27 mai 2019. Au programme : Vendredi 10 mai – 19h – Centre de ressources de Douville - Conférence « De l’esclave à l’ancêtre africain réduit en esclavage : le poids des mots dans notre histoire ». Avec Mme Hélène Migerel Docteur en sciences humaines et Psychanalyste et Mme Gladys Démocrite Avocate au (…) 
X-WR-RELCALID:vivre-a-sainte-anne/culture-dans-la-ville/programme-mensuel-des-animations-de-la-ville/article/mai-des-ancetres
BEGIN:VEVENT
SUMMARY:Heure du conte
UID:evenement346 @ https://www.ville-sainteanne.fr
DTSTAMP:20190521T143820Z
DTSTART:20190522T133000Z
DTEND:20190522T153000Z
CREATED:20190521T143820Z
LAST-MODIFIED:20190521T185016Z
LOCATION:Bibliothèque multimédia Osange Talis-Gane
DESCRIPTION:Présentation de l’ouvrage « Deux jeunes amies an tan l’esclavaj » de Martine Plocoste-Sablon en présence de l’auteur.
CATEGORIES:MAI DES ANCETRES
URL:https://www.ville-sainteanne.fr/vivre-a-sainte-anne/culture-dans-la-ville/programme-mensuel-des-animations-de-la-ville/article/mai-des-ancetres?id_evenement=346

STATUS:CONFIRMED
END:VEVENT
END:VCALENDAR

