BEGIN:VCALENDAR
VERSION:2.0
X-WR-TIMEZONE:America/Guadeloupe
CALSCALE:GREGORIAN
PRODID:-//IPEOS/Calendar//NONSGML v1.0//FR
X-WR-CALNAME;VALUE=TEXT:Sainte-Anne - MAI DES ANCETRES
X-WR-CALDESC: Dans le cadre de la commémoration de l’abolition de l’esclavage\, Christian Baptiste\, Maire de Sainte-Anne invite la population à la 3ème édition du  Mai des Ancêtres  qui se déroule du 10 au 27 mai 2019. Au programme : Vendredi 10 mai – 19h – Centre de ressources de Douville - Conférence « De l’esclave à l’ancêtre africain réduit en esclavage : le poids des mots dans notre histoire ». Avec Mme Hélène Migerel Docteur en sciences humaines et Psychanalyste et Mme Gladys Démocrite Avocate au (…) 
X-WR-RELCALID:vivre-a-sainte-anne/culture-dans-la-ville/programme-mensuel-des-animations-de-la-ville/article/mai-des-ancetres
BEGIN:VEVENT
SUMMARY:CEREMONIE DE COMMEMORATION
UID:evenement347 @ https://www.ville-sainteanne.fr
DTSTAMP:20190521T143953Z
DTSTART:20190527T140000Z
DTEND:20190527T160000Z
CREATED:20190521T143953Z
LAST-MODIFIED:20190521T185016Z
LOCATION:Rond-Point du Nèg Mawon
DESCRIPTION:Allocutions et dépôt de gerbe sur la stèle du Nèg Mawon
CATEGORIES:MAI DES ANCETRES
URL:https://www.ville-sainteanne.fr/vivre-a-sainte-anne/culture-dans-la-ville/programme-mensuel-des-animations-de-la-ville/article/mai-des-ancetres?id_evenement=347

STATUS:CONFIRMED
END:VEVENT
END:VCALENDAR

