BEGIN:VCALENDAR
VERSION:2.0
X-WR-TIMEZONE:America/Guadeloupe
CALSCALE:GREGORIAN
PRODID:-//IPEOS/Calendar//NONSGML v1.0//FR
X-WR-CALNAME;VALUE=TEXT:Sainte-Anne - KALOUSERA
X-WR-CALDESC: Ville de Sainte-Anne\, en partenariat avec l’association Sa Ki Taw\, présente KALOUSERA\, une pièce historique qui prend son appui sur nos danses traditionnelles pour relater un pan de notre histoire : l’esclavage.   Le lundi 27 mai à 18h sur la place de l’esplanade (Place Schœlcher) 
X-WR-RELCALID:vivre-a-sainte-anne/culture-dans-la-ville/programme-mensuel-des-animations-de-la-ville/article/kalousera
BEGIN:VEVENT
SUMMARY:KALOUSERA
UID:evenement348 @ https://www.ville-sainteanne.fr
DTSTAMP:20190521T192634Z
DTSTART:20190527T220000Z
DTEND:20190528T000000Z
CREATED:20190521T192634Z
LAST-MODIFIED:20190521T232733Z
LOCATION:Esplanade de l'Hotel de ville
DESCRIPTION:Ville de Sainte-Anne\, en partenariat avec l’association Sa Ki Taw\, présente KALOUSERA\, une pièce historique qui prend son appui sur nos danses traditionnelles pour relater un pan de notre histoire : l’esclavage. Le lundi 27 mai à 18h sur la place de l’esplanade (Place Schœlcher)
CATEGORIES:KALOUSERA
URL:https://www.ville-sainteanne.fr/vivre-a-sainte-anne/culture-dans-la-ville/programme-mensuel-des-animations-de-la-ville/article/kalousera?id_evenement=348

STATUS:CONFIRMED
END:VEVENT
END:VCALENDAR

