BEGIN:VCALENDAR
VERSION:2.0
X-WR-TIMEZONE:America/Guadeloupe
CALSCALE:GREGORIAN
PRODID:-//IPEOS/Calendar//NONSGML v1.0//FR
X-WR-CALNAME;VALUE=TEXT:Sainte-Anne - Sainte-Anne’Art Côté jardin
X-WR-CALDESC: La 7ème édition de l’exposition florale et artisanale "Sainte-Anne’Art Côté jardin" se tiendra ce week-end\, du vendredi 24 au dimanche 26 mai 2019.  Rencontre avec les artisans\, agro-transformateurs\, pépiniéristes\, horticulteurs et autres professionnels au centre culturel. 
X-WR-RELCALID:vivre-a-sainte-anne/culture-dans-la-ville/centre-culturel/article/sainte-anne-art-cote-jardin-666
BEGIN:VEVENT
SUMMARY:Sainte-Anne'Art Côté jardin
UID:evenement349 @ https://www.ville-sainteanne.fr
DTSTAMP:20190524T152456Z
DTSTART:20190524T113000Z
DTEND:20190526T230000Z
CREATED:20190524T152456Z
LAST-MODIFIED:20190524T192517Z
LOCATION:Centre Culturel
DESCRIPTION:7ème édition de l’exposition florale et artisanale "Sainte-Anne'Art Côté jardin" Rencontre avec les artisans\, agro-transformateurs\, pépiniéristes\, horticulteurs et autres professionnels au centre culturel.
CATEGORIES:Sainte-Anne'Art Côté jardin
URL:https://www.ville-sainteanne.fr/vivre-a-sainte-anne/culture-dans-la-ville/centre-culturel/article/sainte-anne-art-cote-jardin-666?id_evenement=349

STATUS:CONFIRMED
END:VEVENT
END:VCALENDAR

