BEGIN:VCALENDAR
VERSION:2.0
X-WR-TIMEZONE:America/Guadeloupe
CALSCALE:GREGORIAN
PRODID:-//IPEOS/Calendar//NONSGML v1.0//FR
X-WR-CALNAME;VALUE=TEXT:Sainte-Anne - CDV - Juin 2019
X-WR-CALDESC: Le programme des animations culturelles sur le territoire saintannais pour le mois de juin 2019  est disponible en ligne en cliquant ici. 
X-WR-RELCALID:vivre-a-sainte-anne/culture-dans-la-ville/programme-mensuel-des-animations-de-la-ville/article/cdv-juin-2019
BEGIN:VEVENT
SUMMARY:RENDEZ-VOUS AUX JARDINS
UID:evenement350 @ https://www.ville-sainteanne.fr
DTSTAMP:20190604T135659Z
DTSTART:20190608T220000Z
DTEND:20190609T010000Z
CREATED:20190604T135659Z
LAST-MODIFIED:20190604T211402Z
LOCATION:Place Schœlcher et Centre Culturel
DESCRIPTION: 18h - Place Schœlcher : restitution de la résidence d’artiste E.D.E.N et conversation avec l’éco-designer en résidence Laurence ROUSSAS 19h - Centre culturel : vernissage de l’exposition collective « Jardins d’artistes »\, avec Raphaël PUPO\, artiste cubain installé en Guadeloupe\, et présentation des travaux d’élèves réalisés dans le cadre de la résidence d’artistes L’exposition collective sera ouverte au public jusqu’au 22 juin 2019. Renseignements au 0590 85 19 20
CATEGORIES:CDV - Juin 2019
URL:https://www.ville-sainteanne.fr/vivre-a-sainte-anne/culture-dans-la-ville/programme-mensuel-des-animations-de-la-ville/article/cdv-juin-2019?id_evenement=350

STATUS:CONFIRMED
END:VEVENT
END:VCALENDAR

