BEGIN:VCALENDAR
VERSION:2.0
X-WR-TIMEZONE:America/Guadeloupe
CALSCALE:GREGORIAN
PRODID:-//IPEOS/Calendar//NONSGML v1.0//FR
X-WR-CALNAME;VALUE=TEXT:Sainte-Anne - CDV - Juin 2019
X-WR-CALDESC: Le programme des animations culturelles sur le territoire saintannais pour le mois de juin 2019  est disponible en ligne en cliquant ici. 
X-WR-RELCALID:vivre-a-sainte-anne/culture-dans-la-ville/programme-mensuel-des-animations-de-la-ville/article/cdv-juin-2019
BEGIN:VEVENT
SUMMARY:Théâtre : Miss Fanm Doubout
UID:evenement351 @ https://www.ville-sainteanne.fr
DTSTAMP:20190604T171148Z
DTSTART:20190607T233000Z
DTEND:20190608T010000Z
CREATED:20190604T171148Z
LAST-MODIFIED:20190604T211201Z
LOCATION:Centre Culturel
DESCRIPTION:L'association Eveil IV des Abymes\, en partenariat avec Ville de Sainte-Anne\, présente "MISS FANM DOUBOUT"\, comédie en 3 actes mise en scène par Eveil IV. TARIFS : Adulte : 20 € Enfant : 15 € Réservations et ventes des tickets par l'association. Points de vente : Pharmacie de l'Océan (boulevard Ibéné) Station Esso (Durivage) Boucherie Saveurs et traditions (rue Lethière) Contacts : 0690 21 44 16 - 0690 74 38 68 - 0690 72 24 91
CATEGORIES:CDV - Juin 2019
URL:https://www.ville-sainteanne.fr/vivre-a-sainte-anne/culture-dans-la-ville/programme-mensuel-des-animations-de-la-ville/article/cdv-juin-2019?id_evenement=351

STATUS:CONFIRMED
END:VEVENT
END:VCALENDAR

