BEGIN:VCALENDAR
VERSION:2.0
X-WR-TIMEZONE:America/Guadeloupe
CALSCALE:GREGORIAN
PRODID:-//IPEOS/Calendar//NONSGML v1.0//FR
X-WR-CALNAME;VALUE=TEXT:Sainte-Anne - CDV - Juin 2019
X-WR-CALDESC: Le programme des animations culturelles sur le territoire saintannais pour le mois de juin 2019  est disponible en ligne en cliquant ici. 
X-WR-RELCALID:vivre-a-sainte-anne/culture-dans-la-ville/programme-mensuel-des-animations-de-la-ville/article/cdv-juin-2019
BEGIN:VEVENT
SUMMARY:Médiathèque Numérique Guadeloupe
UID:evenement352 @ https://www.ville-sainteanne.fr
DTSTAMP:20190604T172612Z
DTSTART:20190606T183000Z
DTEND:20190606T203000Z
CREATED:20190604T172612Z
LAST-MODIFIED:20190604T212612Z
LOCATION:Bibliothèque multimédia Osange Talis-Gane
DESCRIPTION:Comment réviser avec la médiathèque numérique durant les vacances avec un support ludique multimédia en ligne à jour des programmes de l’Education Nationale. Atelier gratuit – Inscription conseillée - Infoline : 0590 68 63 80
CATEGORIES:CDV - Juin 2019
URL:https://www.ville-sainteanne.fr/vivre-a-sainte-anne/culture-dans-la-ville/programme-mensuel-des-animations-de-la-ville/article/cdv-juin-2019?id_evenement=352

STATUS:CONFIRMED
END:VEVENT
END:VCALENDAR

