BEGIN:VCALENDAR
VERSION:2.0
X-WR-TIMEZONE:America/Guadeloupe
CALSCALE:GREGORIAN
PRODID:-//IPEOS/Calendar//NONSGML v1.0//FR
X-WR-CALNAME;VALUE=TEXT:Sainte-Anne - CDV - Juin 2019
X-WR-CALDESC: Le programme des animations culturelles sur le territoire saintannais pour le mois de juin 2019  est disponible en ligne en cliquant ici. 
X-WR-RELCALID:vivre-a-sainte-anne/culture-dans-la-ville/programme-mensuel-des-animations-de-la-ville/article/cdv-juin-2019
BEGIN:VEVENT
SUMMARY:Rencontre d'auteur avec Richard SYLVESTRE
UID:evenement355 @ https://www.ville-sainteanne.fr
DTSTAMP:20190604T183406Z
DTSTART:20190613T183000Z
DTEND:20190613T203000Z
CREATED:20190604T183406Z
LAST-MODIFIED:20190604T223406Z
LOCATION:Bibliothèque multimédia Osange Talis-Gane
DESCRIPTION:Richard SYLVESTRE\, policier de l’environnement et garde du littoral est un passionné d’écriture. Dans son dernier ouvrage « Les iliens de Guadeloupe et la mer »\, il raconte les bienfaits de la mer. Entrée libre et gratuite Infoline : 0590 68 63 80 / 0590 85 19 20
CATEGORIES:CDV - Juin 2019
URL:https://www.ville-sainteanne.fr/vivre-a-sainte-anne/culture-dans-la-ville/programme-mensuel-des-animations-de-la-ville/article/cdv-juin-2019?id_evenement=355

STATUS:CONFIRMED
END:VEVENT
END:VCALENDAR

