BEGIN:VCALENDAR
VERSION:2.0
X-WR-TIMEZONE:America/Guadeloupe
CALSCALE:GREGORIAN
PRODID:-//IPEOS/Calendar//NONSGML v1.0//FR
X-WR-CALNAME;VALUE=TEXT:Sainte-Anne - JEDI A BOKANTAJ POU ASOSYASION
X-WR-CALDESC: Le Jédi a Bokantaj pou asosyasyon est un rendez-vous régulier proposé par Ville de Sainte-Anne aux dirigeants associatifs. C’est un véritable moment d’échanges\, autour de sujets variés\, entre des bénévoles et des spécialistes ou professionnels.   L’objectif : accompagner les associations dans leur développement et leur structuration.   Informations complémentaires au 0590 21 49 29 
X-WR-RELCALID:citoyennete/associations-et-quartiers/vie-associative-117/article/jedi-a-bokantaj-pou-asosyasion
BEGIN:VEVENT
SUMMARY:JEDI A BOKANTAJ POU ASOSYASION
UID:evenement356 @ https://www.ville-sainteanne.fr
DTSTAMP:20190611T133042Z
DTSTART:20190613T223000Z
DTEND:20190614T010000Z
CREATED:20190611T133042Z
LAST-MODIFIED:20190611T173042Z
LOCATION:Centre de ressources Wilfrid Hugues Ouanna
DESCRIPTION:Thème : les aides en nature des collectivités aux associations Intervenant : M. Albert BRUDEY\, directeur de l'AGPTPE (Association pour la gestion et la Promotion des Très Petites Entreprises) En partenariat avec le DLA (Dispositif Local d'Accompagnement) Informations au 0590 21 49 29 et par mail : vie-associative chez ville-sainteanne.fr
CATEGORIES:JEDI A BOKANTAJ POU ASOSYASION
URL:https://www.ville-sainteanne.fr/citoyennete/associations-et-quartiers/vie-associative-117/article/jedi-a-bokantaj-pou-asosyasion?id_evenement=356

STATUS:CONFIRMED
END:VEVENT
END:VCALENDAR

