BEGIN:VCALENDAR
VERSION:2.0
X-WR-TIMEZONE:America/Guadeloupe
CALSCALE:GREGORIAN
PRODID:-//IPEOS/Calendar//NONSGML v1.0//FR
X-WR-CALNAME;VALUE=TEXT:Sainte-Anne - RENCONTRES ET SEMINAIRES
X-WR-CALDESC: Retrouvez ici les rendez-vous\, rencontres\, séminaires et matinales organisés par les partenaires associatifs et institutionnels de la Guadeloupe. 
X-WR-RELCALID:citoyennete/associations-et-quartiers/vie-associative-117/conseils-et-demarches/article/rencontres-et-seminaires
BEGIN:VEVENT
SUMMARY:MATINALE DES ASSOCIATIONS
UID:evenement359 @ https://www.ville-sainteanne.fr
DTSTAMP:20190611T190217Z
DTSTART:20190612T130000Z
DTEND:20190612T163000Z
CREATED:20190611T190217Z
LAST-MODIFIED:20190611T230850Z
LOCATION:Salle Paul MADO
DESCRIPTION:Thème : Comment créer un premier emploi dans son association
CATEGORIES:RENCONTRES ET SEMINAIRES
URL:https://www.ville-sainteanne.fr/citoyennete/associations-et-quartiers/vie-associative-117/conseils-et-demarches/article/rencontres-et-seminaires?id_evenement=359

STATUS:CONFIRMED
END:VEVENT
END:VCALENDAR

