BEGIN:VCALENDAR
VERSION:2.0
X-WR-TIMEZONE:America/Guadeloupe
CALSCALE:GREGORIAN
PRODID:-//IPEOS/Calendar//NONSGML v1.0//FR
X-WR-CALNAME;VALUE=TEXT:Sainte-Anne - Rallye National des Grands-Fonds Pierre MATHURIN
X-WR-CALDESC: Consultez toutes les informations de la 36ème édition du Rallye National des Grands-Fonds - Rallye Pierre MATHURIN.   Rendez-vous du 21 au 23 juin 2019 pour encourager les équipages\, dans le strict respect des consignes de sécurité !   Plus d’informations sur la page Facebook de l’ASA Guadeloupe   PROGRAMME OFFICIEL DISPONIBLE ICI 
X-WR-RELCALID:vivre-a-sainte-anne/sports-et-loisirs-dans-la-ville/evenements-sportifs/article/rallye-national-des-grands-fonds-pierre-mathurin
BEGIN:VEVENT
SUMMARY:Rallye National des Grands-Fonds Pierre MATHURIN
UID:evenement360 @ https://www.ville-sainteanne.fr
DTSTAMP:20190618T154858Z
DTSTART:20190621T120000Z
DTEND:20190624T000000Z
CREATED:20190618T154858Z
LAST-MODIFIED:20190619T200317Z
LOCATION:Grands-Fonds
DESCRIPTION:Course automobile
CATEGORIES:Rallye National des Grands-Fonds Pierre MATHURIN
URL:https://www.ville-sainteanne.fr/vivre-a-sainte-anne/sports-et-loisirs-dans-la-ville/evenements-sportifs/article/rallye-national-des-grands-fonds-pierre-mathurin?id_evenement=360

STATUS:CONFIRMED
END:VEVENT
END:VCALENDAR

