BEGIN:VCALENDAR
VERSION:2.0
X-WR-TIMEZONE:America/Guadeloupe
CALSCALE:GREGORIAN
PRODID:-//IPEOS/Calendar//NONSGML v1.0//FR
X-WR-CALNAME;VALUE=TEXT:Sainte-Anne - DECODEURS CITOYENS - Mardi 25 juin 2019 à Valette
X-WR-CALDESC: Christian Baptiste\, maire de la ville de Sainte-Anne\, organise une réunion publique le Mardi 25 juin 2019 à 18h30 au restaurant scolaire de Valette\, à propos de la rénovation urbaine\, en présence du cabinet URBIS.   Il compte sur la présence de tous pour ce moment de participation citoyenne.  Informations à la Direction de la Vie des Quartiers au 0590 23 98 80 
X-WR-RELCALID:actualites/article/decodeurs-citoyens-mardi-25-juin-2019-a-valette
BEGIN:VEVENT
SUMMARY:DECODEURS CITOYENS - Mardi 25 juin 2019 à Valette
UID:evenement361 @ https://www.ville-sainteanne.fr
DTSTAMP:20190620T150059Z
DTSTART:20190625T223000Z
DTEND:20190626T003000Z
CREATED:20190620T150059Z
LAST-MODIFIED:20190826T205855Z
LOCATION:Restaurant scolaire de Valette
DESCRIPTION:Christian Baptiste\, maire de la ville de Sainte-Anne\, organise une réunion publique le Mardi 25 juin 2019 à 18h30 au restaurant scolaire de Valette\, à propos de la rénovation urbaine. Il compte sur la présence de tous pour ce moment de participation citoyenne. Informations à la Direction de la Vie des Quartiers au 0590 23 98 80
CATEGORIES:DECODEURS CITOYENS - Mardi 25 juin 2019 à Valette
URL:https://www.ville-sainteanne.fr/actualites/article/decodeurs-citoyens-mardi-25-juin-2019-a-valette?id_evenement=361

STATUS:CONFIRMED
END:VEVENT
END:VCALENDAR

