BEGIN:VCALENDAR
VERSION:2.0
X-WR-TIMEZONE:America/Guadeloupe
CALSCALE:GREGORIAN
PRODID:-//IPEOS/Calendar//NONSGML v1.0//FR
X-WR-CALNAME;VALUE=TEXT:Sainte-Anne - REPORT DU CONSEIL MUNICIPAL DU MERCREDI 26 JUIN 2019
X-WR-CALDESC: Le maire Christian BAPTISTE informe la population du report de la 4ème session ordinaire du conseil municipal au lundi 1er Juillet à 18h\, à la salle des délibérations de la mairie.   Parmi les sujets à l’ordre du jour :   Changement d’usage des locaux d’habitation Actualisation des tarifs de la Taxe Locale sur les Publicités Extérieures Adhésion au portail d’informations géographiques de la Guadeloupe KARUGEO Mesures de carte scolaire 2019   Le maire compte sur la présence de tous. 
X-WR-RELCALID:la-mairie/le-conseil-municipal/agenda/article/conseil-municipal-du-mercredi-26-juin-2019
BEGIN:VEVENT
SUMMARY:CONSEIL MUNICIPAL DU MERCREDI 26 JUIN 2019
UID:evenement362 @ https://www.ville-sainteanne.fr
DTSTAMP:20190620T204333Z
DTSTART:20190626T200000Z
DTEND:20190626T220000Z
CREATED:20190620T204333Z
LAST-MODIFIED:20190624T155909Z
LOCATION:Salle de délibération de l'Hotel de Ville
DESCRIPTION:Parmi les sujets à l’ordre du jour : Changement d’usage des locaux d’habitation Actualisation des tarifs de la Taxe Locale sur les Publicités Extérieures Adhésion au portail d’informations géographiques de la Guadeloupe KARUGEO Mesures de carte scolaire 2019
CATEGORIES:REPORT DU CONSEIL MUNICIPAL DU MERCREDI 26 JUIN 2019
URL:https://www.ville-sainteanne.fr/la-mairie/le-conseil-municipal/agenda/article/conseil-municipal-du-mercredi-26-juin-2019?id_evenement=362

STATUS:CONFIRMED
END:VEVENT
END:VCALENDAR

