BEGIN:VCALENDAR
VERSION:2.0
X-WR-TIMEZONE:America/Guadeloupe
CALSCALE:GREGORIAN
PRODID:-//IPEOS/Calendar//NONSGML v1.0//FR
X-WR-CALNAME;VALUE=TEXT:Sainte-Anne - Sport Dans la Ville
X-WR-CALDESC: Découvrez le programme mensuel des animations sportives de la Ville de Sainte-Anne.    A l’instar du CDV (Culture Dans la Ville) au sein duquel nous regroupons les animations culturelles de la ville\, le SDV (Sport Dans la Ville ) est le programme d’animations (déployées sur le territoire) regroupant les activités sportives proposées par la Ville de Sainte-Anne\, les associations et les ligues sportives. 
X-WR-RELCALID:vivre-a-sainte-anne/sports-et-loisirs-dans-la-ville/animation-sportive/article/sport-dans-la-ville
BEGIN:VEVENT
SUMMARY:TRIATHLON "M" DE SAINTE-ANNE
UID:evenement364 @ https://www.ville-sainteanne.fr
DTSTAMP:20190627T130543Z
DTSTART:20190630T120000Z
DTEND:20190630T160000Z
CREATED:20190627T130543Z
LAST-MODIFIED:20190627T170543Z
LOCATION:Base nautique - Plage du bourg
DESCRIPTION:Championnat de la Guadeloupe (individuel et relais) Départ à 8h à la base nautique Ouvert aux licenciés et aux non licenciés Pas d'inscription sur place Infoline : 0590 48 04 94
CATEGORIES:Sport Dans la Ville
URL:https://www.ville-sainteanne.fr/vivre-a-sainte-anne/sports-et-loisirs-dans-la-ville/animation-sportive/article/sport-dans-la-ville?id_evenement=364

STATUS:CONFIRMED
END:VEVENT
END:VCALENDAR

