BEGIN:VCALENDAR
VERSION:2.0
X-WR-TIMEZONE:America/Guadeloupe
CALSCALE:GREGORIAN
PRODID:-//IPEOS/Calendar//NONSGML v1.0//FR
X-WR-CALNAME;VALUE=TEXT:Sainte-Anne - JUILLET A SAINTE-ANNE 2019
X-WR-CALDESC: Ville de Sainte-Anne et les associations sportives du territoire vous attendent du 1er au 31 juillet pour LE rendez-vous des vacances à ne pas manquer !   Pour cette édition 2019\,  Juillet à Sainte-Anne  revient avec le plein d’animations culturelles et sportives\, à découvrir entre amis\, en famille ou en solo !   Consultez ici les temps forts votre mois de Juillet à Sainte-Anne !   Programme complet consultable en ligne 
X-WR-RELCALID:actualites/article/juillet-a-sainte-anne-2019
BEGIN:VEVENT
SUMMARY:Ciné CARL Cinéma itinérant
UID:evenement367 @ https://www.ville-sainteanne.fr
DTSTAMP:20190627T152455Z
DTSTART:20190705T120000Z
DTEND:20190710T020000Z
CREATED:20190627T152455Z
LAST-MODIFIED:20190826T205908Z
LOCATION:Parking du complexe sportif H. Grandman
DESCRIPTION:Le cinéma d'un nouveau genre à deux pas de chez vous !
CATEGORIES:JUILLET A SAINTE-ANNE 2019
URL:https://www.ville-sainteanne.fr/actualites/article/juillet-a-sainte-anne-2019?id_evenement=367

STATUS:CONFIRMED
END:VEVENT
END:VCALENDAR

