BEGIN:VCALENDAR
VERSION:2.0
X-WR-TIMEZONE:America/Guadeloupe
CALSCALE:GREGORIAN
PRODID:-//IPEOS/Calendar//NONSGML v1.0//FR
X-WR-CALNAME;VALUE=TEXT:Sainte-Anne - JUILLET A SAINTE-ANNE 2019
X-WR-CALDESC: Ville de Sainte-Anne et les associations sportives du territoire vous attendent du 1er au 31 juillet pour LE rendez-vous des vacances à ne pas manquer !   Pour cette édition 2019\,  Juillet à Sainte-Anne  revient avec le plein d’animations culturelles et sportives\, à découvrir entre amis\, en famille ou en solo !   Consultez ici les temps forts votre mois de Juillet à Sainte-Anne !   Programme complet consultable en ligne 
X-WR-RELCALID:actualites/article/juillet-a-sainte-anne-2019
BEGIN:VEVENT
SUMMARY:Visites guidées de Sainte-Anne en tuk-tuk électrique
UID:evenement402 @ https://www.ville-sainteanne.fr
DTSTAMP:20190709T172126Z
DTSTART:20190803T130000Z
DTEND:20190803T200000Z
CREATED:20190709T172126Z
LAST-MODIFIED:20190826T205738Z
LOCATION:Rond point du Nèg Mawon
DESCRIPTION:Visitez le bourg de Sainte-Anne en tuk-tuk électrique. Rotations de 45 minutes Départs prévus à 9h\, 10h\, 11h\, 12h\, 14h et 15h au niveau du rond point du Nèg Mawon (coté arrêt de bus) Tarifs : Tarif individuel : (à partir de 8 ans) : 15€ Tarif famille : (à partir de 8 ans) 50€ pour 2 adultes et 2 enfants de plus de 8 ans (soit 12\,50€ par pax) Tarif Groupe : (à partir de 8 ans) 70€ pour 5 pax (soit 14€ par pax)
CATEGORIES:JUILLET A SAINTE-ANNE 2019
URL:https://www.ville-sainteanne.fr/actualites/article/juillet-a-sainte-anne-2019?id_evenement=402

STATUS:CONFIRMED
END:VEVENT
END:VCALENDAR

