BEGIN:VCALENDAR
VERSION:2.0
X-WR-TIMEZONE:America/Guadeloupe
CALSCALE:GREGORIAN
PRODID:-//IPEOS/Calendar//NONSGML v1.0//FR
X-WR-CALNAME;VALUE=TEXT:Sainte-Anne - Conseil municipal
X-WR-CALDESC:Mercredi 18 mai 2016
X-WR-RELCALID:la-mairie/le-conseil-municipal/agenda/article/reunion-du-conseil-municipal
BEGIN:VEVENT
SUMMARY:Conseil Municipal
UID:evenement42 @ https://www.ville-sainteanne.fr
DTSTAMP:20160516T132639Z
DTSTART:20160518T200000Z
DTEND:20160518T230000Z
CREATED:20160516T132639Z
LAST-MODIFIED:20160516T172925Z
LOCATION:Salle des déliébérations
DESCRIPTION:Ouvert au public
CATEGORIES:Conseil municipal
URL:https://www.ville-sainteanne.fr/la-mairie/le-conseil-municipal/agenda/article/reunion-du-conseil-municipal?id_evenement=42

STATUS:CONFIRMED
END:VEVENT
END:VCALENDAR

