BEGIN:VCALENDAR
VERSION:2.0
X-WR-TIMEZONE:America/Guadeloupe
CALSCALE:GREGORIAN
PRODID:-//IPEOS/Calendar//NONSGML v1.0//FR
X-WR-CALNAME;VALUE=TEXT:Sainte-Anne - La Ville de Sainte-Anne commémore l’abolition de l’esclavage 
X-WR-CALDESC: Dans le cadre de la commémoration de l’abolition de l’esclavage\, le maire de Sainte-Anne Christian BAPTISTE et Dunière AGLAS\, l’élu en charge de la culture en partenariat avec les associations saintannaises vous invitent à participer aux différentes manifestations qui se tiendront sur le territoire du 24 au 28 mai 2016. 
X-WR-RELCALID:actualites/article/la-ville-de-sainte-anne-commemore-l-abolition-de-l-esclavage
BEGIN:VEVENT
SUMMARY:La Marche de la Mémoire 
UID:evenement44 @ https://www.ville-sainteanne.fr
DTSTAMP:20160521T124947Z
DTSTART:20160527T103000Z
DTEND:20160527T140000Z
CREATED:20160521T124947Z
LAST-MODIFIED:20160521T165012Z
LOCATION:Sainte anne 
DESCRIPTION:Départ et arrivée au Rond-point du Neg Mawon Boulevard Hégésippe Ibéné après une marche de 2h à la découverte des tracés et sentiers saintannais
CATEGORIES:La Ville de Sainte-Anne commémore l'abolition de l'esclavage 
URL:https://www.ville-sainteanne.fr/actualites/article/la-ville-de-sainte-anne-commemore-l-abolition-de-l-esclavage?id_evenement=44

STATUS:CONFIRMED
END:VEVENT
END:VCALENDAR

