BEGIN:VCALENDAR
VERSION:2.0
X-WR-TIMEZONE:America/Guadeloupe
CALSCALE:GREGORIAN
PRODID:-//IPEOS/Calendar//NONSGML v1.0//FR
X-WR-CALNAME;VALUE=TEXT:Sainte-Anne - Tournoi Plaj 2019
X-WR-CALDESC: Tournoi de football sur sable organisé par la Ville de Sainte-Anne\, ce rendez-vous incontournable de vos vacances revient du 7 au 28 juillet 2019 à la plage du bourg de Sainte-Anne.   Inscriptions jusqu’au 27 juin 2019.   Renseignements  à la Direction des Affaires sportives au 0590 85 15 55 
X-WR-RELCALID:vivre-a-sainte-anne/sports-et-loisirs-dans-la-ville/animation-sportive/article/tournoi-plaj-2019
BEGIN:VEVENT
SUMMARY:Tournoi de la Plaj' 2019
UID:evenement443 @ https://www.ville-sainteanne.fr
DTSTAMP:20190611T162242Z
DTSTART:20190728T200000Z
DTEND:20190728T233000Z
CREATED:20190611T162242Z
LAST-MODIFIED:20190826T205800Z
LOCATION:Plage du bourg
DESCRIPTION:Tournoi de football sur sable organisé chaque année par la Ville de Sainte-Anne\, avec 12 équipes de 12 joueurs (60€ de frais d'engagement par équipe) Inscriptions jusqu'au 27 juin Informations et modalités d'inscription sur le site de la ville : www.ville-sainteanne.fr Infoline : 0590 85 15 55
CATEGORIES:Tournoi Plaj 2019
URL:https://www.ville-sainteanne.fr/vivre-a-sainte-anne/sports-et-loisirs-dans-la-ville/animation-sportive/article/tournoi-plaj-2019?id_evenement=443

STATUS:CONFIRMED
END:VEVENT
END:VCALENDAR

