BEGIN:VCALENDAR
VERSION:2.0
X-WR-TIMEZONE:America/Guadeloupe
CALSCALE:GREGORIAN
PRODID:-//IPEOS/Calendar//NONSGML v1.0//FR
X-WR-CALNAME;VALUE=TEXT:Sainte-Anne - JUILLET A SAINTE-ANNE 2019
X-WR-CALDESC: Ville de Sainte-Anne et les associations sportives du territoire vous attendent du 1er au 31 juillet pour LE rendez-vous des vacances à ne pas manquer !   Pour cette édition 2019\,  Juillet à Sainte-Anne  revient avec le plein d’animations culturelles et sportives\, à découvrir entre amis\, en famille ou en solo !   Consultez ici les temps forts votre mois de Juillet à Sainte-Anne !   Programme complet consultable en ligne 
X-WR-RELCALID:actualites/article/juillet-a-sainte-anne-2019
BEGIN:VEVENT
SUMMARY:DANSE PIE NI AN PLAJ
UID:evenement454 @ https://www.ville-sainteanne.fr
DTSTAMP:20190722T172557Z
DTSTART:20190728T230000Z
DTEND:20190729T033000Z
CREATED:20190722T172557Z
LAST-MODIFIED:20190826T205752Z
LOCATION:Restaurant Le coquillage
DESCRIPTION:Avec l'association Zanmi La plaj 
CATEGORIES:JUILLET A SAINTE-ANNE 2019
URL:https://www.ville-sainteanne.fr/actualites/article/juillet-a-sainte-anne-2019?id_evenement=454

STATUS:CONFIRMED
END:VEVENT
END:VCALENDAR

