BEGIN:VCALENDAR
VERSION:2.0
X-WR-TIMEZONE:America/Guadeloupe
CALSCALE:GREGORIAN
PRODID:-//IPEOS/Calendar//NONSGML v1.0//FR
X-WR-CALNAME;VALUE=TEXT:Sainte-Anne - CARREFOUR DES ASSOCIATIONS 2019
X-WR-CALDESC: Rendez-vous le samedi 14 septembre 2019 pour la 5ème édition du Carrefour des associations\, de 9h à 17h au gymnase Sully Barny de Douville.   Venez découvrir et vous initier aux activités sportives et culturelles proposées par les associations saintannaises\, la bibliothèque multimédia\, le centre culturel et le service des sports. Au programme : animations\, démonstrations\, possibilité de s’inscrire directement sur place.   Bien dans sa tête\, bien dans son corps avec les associations de (…) 
X-WR-RELCALID:citoyennete/associations-et-quartiers/vie-associative-117/carrefour-des-associations/article/carrefour-des-associations-2019
BEGIN:VEVENT
SUMMARY:CARREFOUR DES ASSOCIATIONS 2019 - 5ème édition
UID:evenement469 @ https://www.ville-sainteanne.fr
DTSTAMP:20190905T142023Z
DTSTART:20190914T130000Z
DTEND:20190914T210000Z
CREATED:20190905T142023Z
LAST-MODIFIED:20190905T182032Z
LOCATION:Gymnase Sully Barny de Douville
DESCRIPTION:Venez découvrir et vous initier aux activités sportives et culturelles proposées par les associations saintannaises\, la bibliothèque multimédia\, le centre culturel et le service des sports. Au programme : animations\, démonstrations\, possibilité de s’inscrire directement sur place. Bien dans sa tête\, bien dans son corps avec les associations de Sainte-Anne ! Informations au 0590 21 49 29
CATEGORIES:CARREFOUR DES ASSOCIATIONS 2019
URL:https://www.ville-sainteanne.fr/citoyennete/associations-et-quartiers/vie-associative-117/carrefour-des-associations/article/carrefour-des-associations-2019?id_evenement=469

STATUS:CONFIRMED
END:VEVENT
END:VCALENDAR

