BEGIN:VCALENDAR
VERSION:2.0
X-WR-TIMEZONE:America/Guadeloupe
CALSCALE:GREGORIAN
PRODID:-//IPEOS/Calendar//NONSGML v1.0//FR
X-WR-CALNAME;VALUE=TEXT:Sainte-Anne - RENCONTRE D’AUTEUR
X-WR-CALDESC: La Ville de Sainte-Anne organise une rencontre d’auteur avec France-Lise DAMBA\, une écrivaine Saintannaise qui témoigne dans son ouvrage de « 1989\, l’ouragan Hugo : La Guadeloupe dévastée ».   Dans le cadre de sa programmation culturelle du mois de septembre 2019\, la ville de Sainte-Anne organise une rencontre d’auteur ce mercredi 18 septembre 2019 à 17h00\, au centre culturel.   Au trentième anniversaire du passage ravageur de l’ouragan Hugo\, en Guadeloupe\, l’auteur France-Lise DAMBA (…) 
X-WR-RELCALID:vivre-a-sainte-anne/culture-dans-la-ville/centre-culturel/article/rencontre-d-auteur
BEGIN:VEVENT
SUMMARY:RENCONTRE D'AUTEUR
UID:evenement471 @ https://www.ville-sainteanne.fr
DTSTAMP:20190911T145749Z
DTSTART:20190918T210000Z
DTEND:20190918T230000Z
CREATED:20190911T145749Z
LAST-MODIFIED:20190917T200530Z
LOCATION:Centre Culturel
DESCRIPTION:PRÉSENTATION DE L’OUVRAGE « 1989\, L’OURAGAN HUGO : LA GUADELOUPE DÉVASTÉE » Originaire de Sainte-Anne\, France-Lise DAMBA\, auteure\, spécialiste de la langue et de la culture régionale créole présentera le troisième tome de la série Vivre au temps des cyclones. Après les différents témoignages sur cette nuit inoubliable du 16 au 17 septembre 1989\, une séance de dédicace est prévue. Entrée libre et gratuite Infoline : 0590 85 19 20 PRÉSENTATION DE L’OUVRAGE « 1989\, L’OURAGAN HUGO : LA GUADELOUPE DÉVASTÉE » Originaire de Sainte-Anne\, France-Lise DAMBA\, auteure\, spécialiste de la langue et de la culture régionale créole présentera le troisième tome de la série Vivre au temps des cyclones. Après les différents témoignages sur cette nuit inoubliable du 16 au 17 septembre 1989\, une séance de dédicace est prévue. Entrée libre et gratuite Infoline : 0590 85 19 20 
CATEGORIES:RENCONTRE D’AUTEUR
URL:https://www.ville-sainteanne.fr/vivre-a-sainte-anne/culture-dans-la-ville/centre-culturel/article/rencontre-d-auteur?id_evenement=471

STATUS:CONFIRMED
END:VEVENT
END:VCALENDAR

