BEGIN:VCALENDAR
VERSION:2.0
X-WR-TIMEZONE:America/Guadeloupe
CALSCALE:GREGORIAN
PRODID:-//IPEOS/Calendar//NONSGML v1.0//FR
X-WR-CALNAME;VALUE=TEXT:Sainte-Anne - Journées Européennes du Patrimoine 2019
X-WR-CALDESC:La Ville de Sainte-Anne accueille les Journées Européennes du Patrimoine et fait découvrir les arts et les jeux traditionnels d’antan.
X-WR-RELCALID:vivre-a-sainte-anne/culture-dans-la-ville/programme-mensuel-des-animations-de-la-ville/article/journees-europeennes-du-patrimoine-2019
BEGIN:VEVENT
SUMMARY:JOURNEES EUROPEENNES DU PATRIMOINE
UID:evenement472 @ https://www.ville-sainteanne.fr
DTSTAMP:20190911T150855Z
DTSTART;VALUE=DATE:20190920
DTEND;VALUE=DATE:20190922
CREATED:20190911T150855Z
LAST-MODIFIED:20240917T222332Z
LOCATION:Centre culturel et Espace d'Arts près de la mairie
DESCRIPTION:Organisées par le ministère de la Culture et placées sous le patronage du Conseil de l’Europe et de la Commission européenne\, la 36ème édition nationale se déroulera les 21 et 22 septembre sous le thème « Arts et Divertissement ». La ville de Sainte-Anne mettra ainsi à l’honneur les arts du spectacle et les jeux traditionnels.
CATEGORIES:Journées Européennes du Patrimoine 2019
URL:https://www.ville-sainteanne.fr/vivre-a-sainte-anne/culture-dans-la-ville/programme-mensuel-des-animations-de-la-ville/article/journees-europeennes-du-patrimoine-2019?id_evenement=472

STATUS:CONFIRMED
END:VEVENT
END:VCALENDAR

