BEGIN:VCALENDAR
VERSION:2.0
X-WR-TIMEZONE:America/Guadeloupe
CALSCALE:GREGORIAN
PRODID:-//IPEOS/Calendar//NONSGML v1.0//FR
X-WR-CALNAME;VALUE=TEXT:Sainte-Anne - CDV SEPTEMBRE 2019
X-WR-CALDESC: La saison culturelle et sportive 2019-2020 a démarré !!  La ville de Sainte-Anne vous présente l’offre culturelle\, artistique et sportive du mois de septembre.  Avec les Journées Nationales du Patrimoine\, le Carrefour des associations et la programmation du centre culturel…le mois de septembre s’annonce riche en découvertes !!!  Rendez-vous au centre culturel de la ville et à la bibliothèque municipale Osange Talis Gane pour participer aux évènements.   Le programme des animations (…) 
X-WR-RELCALID:vivre-a-sainte-anne/culture-dans-la-ville/programme-mensuel-des-animations-de-la-ville/article/cdv-septembre-2019
BEGIN:VEVENT
SUMMARY:SEMINAIRE DE L’ASSOCIATION LIGUE VIE ET SANTE
UID:evenement473 @ https://www.ville-sainteanne.fr
DTSTAMP:20190911T151425Z
DTSTART:20190915T200000Z
DTEND:20190915T220000Z
CREATED:20190911T151425Z
LAST-MODIFIED:20190911T191425Z
LOCATION:Centre Culturel
DESCRIPTION:L’association LIGUE VIE ET SANTE organise un séminaire dont le thème est : LE STRESS Tout public Entrée libre et gratuite Infoline : 0690 34 86 27
CATEGORIES:CDV SEPTEMBRE 2019
URL:https://www.ville-sainteanne.fr/vivre-a-sainte-anne/culture-dans-la-ville/programme-mensuel-des-animations-de-la-ville/article/cdv-septembre-2019?id_evenement=473

STATUS:CONFIRMED
END:VEVENT
END:VCALENDAR

