BEGIN:VCALENDAR
VERSION:2.0
X-WR-TIMEZONE:America/Guadeloupe
CALSCALE:GREGORIAN
PRODID:-//IPEOS/Calendar//NONSGML v1.0//FR
X-WR-CALNAME;VALUE=TEXT:Sainte-Anne - World Clean Up Day
X-WR-CALDESC: QU’EST-CE QUE C’EST ? C’est une journée où le monde entier se mobilise pour nettoyer notre planète. C’est un mouvement de citoyens sans frontière\, où les forces sont unies pour une action positive\, festive en ramassant des déchets et lutter ainsi contre les déchets sauvages. Localement et partout dans le monde\, des opérations de nettoyage seront organisées le même jour\, le 21 septembre 2019.   QUEL EST L’OBJECTIF ? Agir concrètement et ensemble. Une première étape pour engager des (…) 
X-WR-RELCALID:citoyennete/associations-et-quartiers/vie-associative-117/article/world-cleanup-day-a-sainte-anne
BEGIN:VEVENT
SUMMARY:WORLD CLEAN UP DAY
UID:evenement474 @ https://www.ville-sainteanne.fr
DTSTAMP:20190911T152029Z
DTSTART;VALUE=DATE:20190921
DTEND;VALUE=DATE:20190922
CREATED:20190911T152029Z
LAST-MODIFIED:20240917T222332Z
LOCATION:Rond-point du Nèg Mawon
DESCRIPTION:Opération de nettoyage organisée par l’association Windsurf Sentann Guadeloupe Rendez-vous dès 8h30 au rond-point du Nèg Mawon. Petit-déjeuner offert Infoline : 0690 15 28 29 Opération de nettoyage organisée par l’association Windsurf Sentann Guadeloupe Rendez-vous dès 8h30 au rond-point du Nèg Mawon. Petit-déjeuner offert Infoline : 0690 15 28 29 
CATEGORIES:World Clean Up Day
URL:https://www.ville-sainteanne.fr/citoyennete/associations-et-quartiers/vie-associative-117/article/world-cleanup-day-a-sainte-anne?id_evenement=474

STATUS:CONFIRMED
END:VEVENT
END:VCALENDAR

