BEGIN:VCALENDAR
VERSION:2.0
X-WR-TIMEZONE:America/Guadeloupe
CALSCALE:GREGORIAN
PRODID:-//IPEOS/Calendar//NONSGML v1.0//FR
X-WR-CALNAME;VALUE=TEXT:Sainte-Anne - CDV SEPTEMBRE 2019
X-WR-CALDESC: La saison culturelle et sportive 2019-2020 a démarré !!  La ville de Sainte-Anne vous présente l’offre culturelle\, artistique et sportive du mois de septembre.  Avec les Journées Nationales du Patrimoine\, le Carrefour des associations et la programmation du centre culturel…le mois de septembre s’annonce riche en découvertes !!!  Rendez-vous au centre culturel de la ville et à la bibliothèque municipale Osange Talis Gane pour participer aux évènements.   Le programme des animations (…) 
X-WR-RELCALID:vivre-a-sainte-anne/culture-dans-la-ville/programme-mensuel-des-animations-de-la-ville/article/cdv-septembre-2019
BEGIN:VEVENT
SUMMARY:COLLECTE DE SANG
UID:evenement475 @ https://www.ville-sainteanne.fr
DTSTAMP:20190911T152526Z
DTSTART:20190921T120000Z
DTEND:20190921T160000Z
CREATED:20190911T152526Z
LAST-MODIFIED:20190911T192526Z
LOCATION:Parvis du Centre culturel
DESCRIPTION:Organisée par l’Etablissement Français du Sang – E.F.S Infoline : 0590 83 78 33 Organisée par l’Etablissement Français du Sang – E.F.S Infoline : 0590 83 78 33 
CATEGORIES:CDV SEPTEMBRE 2019
URL:https://www.ville-sainteanne.fr/vivre-a-sainte-anne/culture-dans-la-ville/programme-mensuel-des-animations-de-la-ville/article/cdv-septembre-2019?id_evenement=475

STATUS:CONFIRMED
END:VEVENT
END:VCALENDAR

