BEGIN:VCALENDAR
VERSION:2.0
X-WR-TIMEZONE:America/Guadeloupe
CALSCALE:GREGORIAN
PRODID:-//IPEOS/Calendar//NONSGML v1.0//FR
X-WR-CALNAME;VALUE=TEXT:Sainte-Anne - CULTURE DANS LA VILLE - Octobre 2019
X-WR-CALDESC: La ville de Sainte-Anne vous présente l’offre culturelle et artistique du mois d’octobre   Rendez-vous au Centre culturel de la ville et à la bibliothèque municipale Osange Talis Gane pour participer aux évènements. 
X-WR-RELCALID:vivre-a-sainte-anne/culture-dans-la-ville/programme-mensuel-des-animations-de-la-ville/article/culture-dans-la-ville-octobre-2019
BEGIN:VEVENT
SUMMARY:Dikté Kréyol de An nou maché
UID:evenement476 @ https://www.ville-sainteanne.fr
DTSTAMP:20190918T142656Z
DTSTART:20191019T133000Z
DTEND:20191019T160000Z
CREATED:20190918T142656Z
LAST-MODIFIED:20191002T005750Z
LOCATION:Centre de ressources
DESCRIPTION:L'association An nou maché vous invite à la Dikté Kréyol qu'elle organise. Tout public Informations et inscriptions : Tél : 0690 96 12 49 Mail : contact.annoumache chez gmail.com L'association An nou maché vous invite à la Dikté Kréyol qu'elle organise. Tout public Informations et inscriptions : Tél : 0690 96 12 49 Mail : contact.annoumache chez gmail.com 
CATEGORIES:CULTURE DANS LA VILLE - Octobre 2019
URL:https://www.ville-sainteanne.fr/vivre-a-sainte-anne/culture-dans-la-ville/programme-mensuel-des-animations-de-la-ville/article/culture-dans-la-ville-octobre-2019?id_evenement=476

STATUS:CONFIRMED
END:VEVENT
END:VCALENDAR

