BEGIN:VCALENDAR
VERSION:2.0
X-WR-TIMEZONE:America/Guadeloupe
CALSCALE:GREGORIAN
PRODID:-//IPEOS/Calendar//NONSGML v1.0//FR
X-WR-CALNAME;VALUE=TEXT:Sainte-Anne - Conseil Municipal
X-WR-CALDESC:Mercredi 25 septembre 2019
X-WR-RELCALID:la-mairie/le-conseil-municipal/agenda/article/conseil-municipal-727
BEGIN:VEVENT
SUMMARY:Conseil Municipal
UID:evenement477 @ https://www.ville-sainteanne.fr
DTSTAMP:20190923T144915Z
DTSTART:20190925T200000Z
DTEND:20190925T220000Z
CREATED:20190923T144915Z
LAST-MODIFIED:20190923T185122Z
LOCATION:Salle de délibérations
CATEGORIES:Conseil Municipal
URL:https://www.ville-sainteanne.fr/la-mairie/le-conseil-municipal/agenda/article/conseil-municipal-727?id_evenement=477

STATUS:CONFIRMED
END:VEVENT
END:VCALENDAR

