BEGIN:VCALENDAR
VERSION:2.0
X-WR-TIMEZONE:America/Guadeloupe
CALSCALE:GREGORIAN
PRODID:-//IPEOS/Calendar//NONSGML v1.0//FR
X-WR-CALNAME;VALUE=TEXT:Sainte-Anne - CULTURE DANS LA VILLE - Octobre 2019
X-WR-CALDESC: La ville de Sainte-Anne vous présente l’offre culturelle et artistique du mois d’octobre   Rendez-vous au Centre culturel de la ville et à la bibliothèque municipale Osange Talis Gane pour participer aux évènements. 
X-WR-RELCALID:vivre-a-sainte-anne/culture-dans-la-ville/programme-mensuel-des-animations-de-la-ville/article/culture-dans-la-ville-octobre-2019
BEGIN:VEVENT
SUMMARY:Tango argentin
UID:evenement478 @ https://www.ville-sainteanne.fr
DTSTAMP:20190923T181055Z
DTSTART:20191005T140000Z
DTEND:20191005T150000Z
CREATED:20190923T181055Z
LAST-MODIFIED:20190924T185831Z
LOCATION:Centre Culturel
DESCRIPTION:Cours d'initiation proposé par l'association Omon's. Infoline : 0690 14 66 04 / 0590 85 19 20
CATEGORIES:CULTURE DANS LA VILLE - Octobre 2019
URL:https://www.ville-sainteanne.fr/vivre-a-sainte-anne/culture-dans-la-ville/programme-mensuel-des-animations-de-la-ville/article/culture-dans-la-ville-octobre-2019?id_evenement=478

STATUS:CONFIRMED
END:VEVENT
END:VCALENDAR

