BEGIN:VCALENDAR
VERSION:2.0
X-WR-TIMEZONE:America/Guadeloupe
CALSCALE:GREGORIAN
PRODID:-//IPEOS/Calendar//NONSGML v1.0//FR
X-WR-CALNAME;VALUE=TEXT:Sainte-Anne - CULTURE DANS LA VILLE - Octobre 2019
X-WR-CALDESC: La ville de Sainte-Anne vous présente l’offre culturelle et artistique du mois d’octobre   Rendez-vous au Centre culturel de la ville et à la bibliothèque municipale Osange Talis Gane pour participer aux évènements. 
X-WR-RELCALID:vivre-a-sainte-anne/culture-dans-la-ville/programme-mensuel-des-animations-de-la-ville/article/culture-dans-la-ville-octobre-2019
BEGIN:VEVENT
SUMMARY:Heure du conte - « Dans mon panier il y a ….. »
UID:evenement487 @ https://www.ville-sainteanne.fr
DTSTAMP:20190924T143651Z
DTSTART:20191016T143000Z
DTEND:20191016T160000Z
CREATED:20190924T143651Z
LAST-MODIFIED:20190924T184953Z
LOCATION:Bibliothèque multimédia Osange Talis-Gane
DESCRIPTION:Mystère et découverte d’un album à partir d’un objet représentatif de l’histoire. Public : 3 à 6 ans Entrée libre et gratuite - Inscription conseillée Infoline : 0590 68 63 80
CATEGORIES:CULTURE DANS LA VILLE - Octobre 2019
URL:https://www.ville-sainteanne.fr/vivre-a-sainte-anne/culture-dans-la-ville/programme-mensuel-des-animations-de-la-ville/article/culture-dans-la-ville-octobre-2019?id_evenement=487

STATUS:CONFIRMED
END:VEVENT
END:VCALENDAR

