BEGIN:VCALENDAR
VERSION:2.0
X-WR-TIMEZONE:America/Guadeloupe
CALSCALE:GREGORIAN
PRODID:-//IPEOS/Calendar//NONSGML v1.0//FR
X-WR-CALNAME;VALUE=TEXT:Sainte-Anne - CULTURE DANS LA VILLE - Octobre 2019
X-WR-CALDESC: La ville de Sainte-Anne vous présente l’offre culturelle et artistique du mois d’octobre   Rendez-vous au Centre culturel de la ville et à la bibliothèque municipale Osange Talis Gane pour participer aux évènements. 
X-WR-RELCALID:vivre-a-sainte-anne/culture-dans-la-ville/programme-mensuel-des-animations-de-la-ville/article/culture-dans-la-ville-octobre-2019
BEGIN:VEVENT
SUMMARY:SEMAINE BLEUE - Rencontre intergénérationelle et projections
UID:evenement490 @ https://www.ville-sainteanne.fr
DTSTAMP:20190924T150832Z
DTSTART;VALUE=DATE:20191008
DTEND;VALUE=DATE:20191009
CREATED:20190924T150832Z
LAST-MODIFIED:20240917T222332Z
LOCATION:Place Schœlcher et Centre de ressources de Douville
DESCRIPTION:PROGRAMME 8h30 à 12h30 : Rencontre intergénérationnelle Moment d’échanges et de rencontres avec les acteurs du monde associatif. Animations diverses\, jeux et démonstrations autour d'activités culturelles\, artistiques et sportives. Lieu : place Schoelcher 16h00 à 19h00 : Projection de courts métrages sur la problématique de l’isolement des personnes âgées suivie d’un débat animé par un historien sociologue. Lieu : Auditorium de Douville PROGRAMME 8h30 à 12h30 : Rencontre intergénérationnelle Moment d’échanges et de rencontres avec les acteurs du monde associatif. Animations diverses\, jeux et démonstrations autour d'activités culturelles\, artistiques et sportives. Lieu : place Schoelcher 16h00 à 19h00 : Projection de courts métrages sur la problématique de l’isolement des personnes âgées suivie d’un débat animé par un historien sociologue. Lieu : Auditorium de Douville 
CATEGORIES:CULTURE DANS LA VILLE - Octobre 2019
URL:https://www.ville-sainteanne.fr/vivre-a-sainte-anne/culture-dans-la-ville/programme-mensuel-des-animations-de-la-ville/article/culture-dans-la-ville-octobre-2019?id_evenement=490

STATUS:CONFIRMED
END:VEVENT
END:VCALENDAR

