BEGIN:VCALENDAR
VERSION:2.0
X-WR-TIMEZONE:America/Guadeloupe
CALSCALE:GREGORIAN
PRODID:-//IPEOS/Calendar//NONSGML v1.0//FR
X-WR-CALNAME;VALUE=TEXT:Sainte-Anne - CULTURE DANS LA VILLE - Octobre 2019
X-WR-CALDESC: La ville de Sainte-Anne vous présente l’offre culturelle et artistique du mois d’octobre   Rendez-vous au Centre culturel de la ville et à la bibliothèque municipale Osange Talis Gane pour participer aux évènements. 
X-WR-RELCALID:vivre-a-sainte-anne/culture-dans-la-ville/programme-mensuel-des-animations-de-la-ville/article/culture-dans-la-ville-octobre-2019
BEGIN:VEVENT
SUMMARY:SEMAINE BLEUE - JOURNEE PAPOT’ ÂGE
UID:evenement491 @ https://www.ville-sainteanne.fr
DTSTAMP:20190924T151452Z
DTSTART:20191011T123000Z
DTEND:20191011T200000Z
CREATED:20190924T151452Z
LAST-MODIFIED:20191009T161315Z
LOCATION:Centre Culturel
DESCRIPTION:Le café bleu de Yémouna et son krèy avec les associations des ainées de Sainte-Anne avec le CCAS de la ville Entrée libre et gratuite Inscription conseillée au 0590 82 10 60 Le café bleu de Yémouna et son krèy avec les associations des ainées de Sainte-Anne avec le CCAS de la ville Entrée libre et gratuite Inscription conseillée au 0590 82 10 60 
CATEGORIES:CULTURE DANS LA VILLE - Octobre 2019
URL:https://www.ville-sainteanne.fr/vivre-a-sainte-anne/culture-dans-la-ville/programme-mensuel-des-animations-de-la-ville/article/culture-dans-la-ville-octobre-2019?id_evenement=491

STATUS:CONFIRMED
END:VEVENT
END:VCALENDAR

