BEGIN:VCALENDAR
VERSION:2.0
X-WR-TIMEZONE:America/Guadeloupe
CALSCALE:GREGORIAN
PRODID:-//IPEOS/Calendar//NONSGML v1.0//FR
X-WR-CALNAME;VALUE=TEXT:Sainte-Anne - CULTURE DANS LA VILLE - Octobre 2019
X-WR-CALDESC: La ville de Sainte-Anne vous présente l’offre culturelle et artistique du mois d’octobre   Rendez-vous au Centre culturel de la ville et à la bibliothèque municipale Osange Talis Gane pour participer aux évènements. 
X-WR-RELCALID:vivre-a-sainte-anne/culture-dans-la-ville/programme-mensuel-des-animations-de-la-ville/article/culture-dans-la-ville-octobre-2019
BEGIN:VEVENT
SUMMARY:Journées nationales de l’architecture 
UID:evenement492 @ https://www.ville-sainteanne.fr
DTSTAMP:20190924T153827Z
DTSTART:20191018T230000Z
DTEND:20191019T010000Z
CREATED:20190924T153827Z
LAST-MODIFIED:20191011T195057Z
LOCATION:Bibliothèque multimédia Osange Talis-Gane
DESCRIPTION:Rencontre avec Michèle Robin Clerc autour du patrimoine Ali Tur de la ville de Sainte-Anne dans le cadre des journées nationales de l’architecture. Présentation d’un diaporama et échanges avec le public. Michèle Robin Clerc est architecte\, urbaniste et experte en Guadeloupe. Elle est l’auteur d’un ouvrage intitulé « Ali Tur : Guadeloupe\, années 30 : l'architecte d'une reconstruction ». Ali Tur est l’architecte auquel l’on doit\, à Sainte-Anne\, l’église\, le presbytère\, l’ancien immeuble de la perception et les deux écoles des Grands-Fonds. 
CATEGORIES:CULTURE DANS LA VILLE - Octobre 2019
URL:https://www.ville-sainteanne.fr/vivre-a-sainte-anne/culture-dans-la-ville/programme-mensuel-des-animations-de-la-ville/article/culture-dans-la-ville-octobre-2019?id_evenement=492

STATUS:CONFIRMED
END:VEVENT
END:VCALENDAR

