BEGIN:VCALENDAR
VERSION:2.0
X-WR-TIMEZONE:America/Guadeloupe
CALSCALE:GREGORIAN
PRODID:-//IPEOS/Calendar//NONSGML v1.0//FR
X-WR-CALNAME;VALUE=TEXT:Sainte-Anne - CULTURE DANS LA VILLE - Octobre 2019
X-WR-CALDESC: La ville de Sainte-Anne vous présente l’offre culturelle et artistique du mois d’octobre   Rendez-vous au Centre culturel de la ville et à la bibliothèque municipale Osange Talis Gane pour participer aux évènements. 
X-WR-RELCALID:vivre-a-sainte-anne/culture-dans-la-ville/programme-mensuel-des-animations-de-la-ville/article/culture-dans-la-ville-octobre-2019
BEGIN:VEVENT
SUMMARY:Ti Kozé 
UID:evenement494 @ https://www.ville-sainteanne.fr
DTSTAMP:20190924T154406Z
DTSTART:20191005T220000Z
DTEND:20191006T000000Z
CREATED:20190924T154406Z
LAST-MODIFIED:20190927T003842Z
LOCATION:Local de l'association "An ou bokanté"
DESCRIPTION:L’association AN NOU BOKANTE propose son Ti Kozé mensuel sur le thème : Bien manger\, manger local\, les effets sur la santé\, l'environnement\, l'économie . Intervenante : Evelyne Vergé Dépré\, Pharmacienne Lieu : local 26 rue César Galas L’association AN NOU BOKANTE propose son Ti Kozé mensuel sur le thème : Bien manger\, manger local\, les effets sur la santé\, l'environnement\, l'économie . Intervenante : Evelyne Vergé Dépré\, Pharmacienne Lieu : local 26 rue César Galas 
CATEGORIES:CULTURE DANS LA VILLE - Octobre 2019
URL:https://www.ville-sainteanne.fr/vivre-a-sainte-anne/culture-dans-la-ville/programme-mensuel-des-animations-de-la-ville/article/culture-dans-la-ville-octobre-2019?id_evenement=494

STATUS:CONFIRMED
END:VEVENT
END:VCALENDAR

