BEGIN:VCALENDAR
VERSION:2.0
X-WR-TIMEZONE:America/Guadeloupe
CALSCALE:GREGORIAN
PRODID:-//IPEOS/Calendar//NONSGML v1.0//FR
X-WR-CALNAME;VALUE=TEXT:Sainte-Anne - CULTURE DANS LA VILLE - Octobre 2019
X-WR-CALDESC: La ville de Sainte-Anne vous présente l’offre culturelle et artistique du mois d’octobre   Rendez-vous au Centre culturel de la ville et à la bibliothèque municipale Osange Talis Gane pour participer aux évènements. 
X-WR-RELCALID:vivre-a-sainte-anne/culture-dans-la-ville/programme-mensuel-des-animations-de-la-ville/article/culture-dans-la-ville-octobre-2019
BEGIN:VEVENT
SUMMARY:Séminaire
UID:evenement495 @ https://www.ville-sainteanne.fr
DTSTAMP:20190924T154647Z
DTSTART:20191016T220000Z
DTEND:20191017T000000Z
CREATED:20190924T154647Z
LAST-MODIFIED:20191010T181328Z
LOCATION:Centre culturel
DESCRIPTION:Séminaire sur l’utilisation et les bienfaits des plantes médicinales organisée par l’association LIGUE VIE ET SANTE Infoline : 0690 34 86 27 Séminaire sur l’utilisation et les bienfaits des plantes médicinales organisée par l’association LIGUE VIE ET SANTE Infoline : 0690 34 86 27 
CATEGORIES:CULTURE DANS LA VILLE - Octobre 2019
URL:https://www.ville-sainteanne.fr/vivre-a-sainte-anne/culture-dans-la-ville/programme-mensuel-des-animations-de-la-ville/article/culture-dans-la-ville-octobre-2019?id_evenement=495

STATUS:CONFIRMED
END:VEVENT
END:VCALENDAR

