BEGIN:VCALENDAR
VERSION:2.0
X-WR-TIMEZONE:America/Guadeloupe
CALSCALE:GREGORIAN
PRODID:-//IPEOS/Calendar//NONSGML v1.0//FR
X-WR-CALNAME;VALUE=TEXT:Sainte-Anne - CULTURE DANS LA VILLE - Octobre 2019
X-WR-CALDESC: La ville de Sainte-Anne vous présente l’offre culturelle et artistique du mois d’octobre   Rendez-vous au Centre culturel de la ville et à la bibliothèque municipale Osange Talis Gane pour participer aux évènements. 
X-WR-RELCALID:vivre-a-sainte-anne/culture-dans-la-ville/programme-mensuel-des-animations-de-la-ville/article/culture-dans-la-ville-octobre-2019
BEGIN:VEVENT
SUMMARY:Collecte de sang de l’Etablissement Français du sang – E.F.S
UID:evenement496 @ https://www.ville-sainteanne.fr
DTSTAMP:20190924T181943Z
DTSTART:20191019T120000Z
DTEND:20191019T160000Z
CREATED:20190924T181943Z
LAST-MODIFIED:20190924T221943Z
LOCATION:Parvis du centre culturel
DESCRIPTION:Infoline : 0590 83 78 33
CATEGORIES:CULTURE DANS LA VILLE - Octobre 2019
URL:https://www.ville-sainteanne.fr/vivre-a-sainte-anne/culture-dans-la-ville/programme-mensuel-des-animations-de-la-ville/article/culture-dans-la-ville-octobre-2019?id_evenement=496

STATUS:CONFIRMED
END:VEVENT
END:VCALENDAR

