BEGIN:VCALENDAR
VERSION:2.0
X-WR-TIMEZONE:America/Guadeloupe
CALSCALE:GREGORIAN
PRODID:-//IPEOS/Calendar//NONSGML v1.0//FR
X-WR-CALNAME;VALUE=TEXT:Sainte-Anne - CULTURE DANS LA VILLE - Octobre 2019
X-WR-CALDESC: La ville de Sainte-Anne vous présente l’offre culturelle et artistique du mois d’octobre   Rendez-vous au Centre culturel de la ville et à la bibliothèque municipale Osange Talis Gane pour participer aux évènements. 
X-WR-RELCALID:vivre-a-sainte-anne/culture-dans-la-ville/programme-mensuel-des-animations-de-la-ville/article/culture-dans-la-ville-octobre-2019
BEGIN:VEVENT
SUMMARY:SEMAINE BLEUE - JEDI A BOKANTAJ POU ASOSYASYON
UID:evenement497 @ https://www.ville-sainteanne.fr
DTSTAMP:20190926T152117Z
DTSTART:20191010T223000Z
DTEND:20191011T003000Z
CREATED:20190926T152117Z
LAST-MODIFIED:20190927T004613Z
LOCATION:Auditorium du Centre de ressources
DESCRIPTION:Conférence/débat sur le thème "JE SUIS SENIOR ET ALORS". Des intervenants du Conseil Départemental\, de la Caisse Générale de Sécurité Sociale de la Guadeloupe et du Centre Communal d'actions Sociales échangeront avec les associations autour des problématiques de l’isolement des personnes âgées et présenteront leurs dispositifs pour accompagner les associations qui souhaitent développer des activités en direction des séniors. Conférence/débat sur le thème "JE SUIS SENIOR ET ALORS". Des intervenants du Conseil Départemental\, de la Caisse Générale de Sécurité Sociale de la Guadeloupe et du Centre Communal d'actions Sociales échangeront avec les associations autour des problématiques de l’isolement des personnes âgées et présenteront leurs dispositifs pour accompagner les associations qui souhaitent développer des activités en direction des séniors. 
CATEGORIES:CULTURE DANS LA VILLE - Octobre 2019
URL:https://www.ville-sainteanne.fr/vivre-a-sainte-anne/culture-dans-la-ville/programme-mensuel-des-animations-de-la-ville/article/culture-dans-la-ville-octobre-2019?id_evenement=497

STATUS:CONFIRMED
END:VEVENT
END:VCALENDAR

